 BEGIN:VCALENDAR
VERSION:2.0
PRODID:-//wp-events-plugin.com//7.2.3.1//EN
BEGIN:VEVENT
UID:14@neetuchoudhary.com
DTSTART;TZID=Asia/Dubai:20230612T140000
DTEND;TZID=Asia/Dubai:20230612T143000
DTSTAMP:20230610T103039Z
URL:https://neetuchoudhary.com/events/why-you-should-speak/
SUMMARY:Why you should speak
DESCRIPTION:You have a voice and you do not share it with the world. Unders
 tand why you should speak and share your thoughts.\n-Neetu Choudhary\nRegi
 ster Now
ATTACH;FMTTYPE=image/jpeg:https://neetuchoudhary.com/wp-content/uploads/20
 23/06/WhatsApp-Image-2023-06-05-at-16.10.22.jpeg
END:VEVENT
BEGIN:VTIMEZONE
TZID:Asia/Dubai
X-LIC-LOCATION:Asia/Dubai
BEGIN:STANDARD
DTSTART:20220612T140000
TZOFFSETFROM:+0400
TZOFFSETTO:+0400
TZNAME:+04
END:STANDARD
END:VTIMEZONE
END:VCALENDAR