 BEGIN:VCALENDAR
VERSION:2.0
PRODID:-//wp-events-plugin.com//7.2.3.1//EN
BEGIN:VEVENT
UID:4@neetuchoudhary.com
DTSTART;TZID=Asia/Dubai:20230130T110000
DTEND;TZID=Asia/Dubai:20230130T120000
DTSTAMP:20230127T045041Z
URL:https://neetuchoudhary.com/events/top-10-mistakes-to-avoid-when-introd
 ucing-yourself/
SUMMARY:Top 10 mistakes to avoid when introducing yourself
DESCRIPTION:Introductions can be inherently high-pressure and awkward. Many
  people fall back on autopilot when introducing. Learn what are the top mi
 stakes to avoid when introducing yourself​.\nComplementary Online Webina
 r 30-Jan-2023 11 a.m Dubai Time\n\nRegister Now\nBrief intro about Neetu C
 houdhary\nNeetu helps organizations improve revenue by motivating and upsk
 illing employees. She has more than 20 years of experience. She has left a
  highly-paid job at a renowned organization in Dubai to embark on an entre
 preneurial journey for a cause bigger than herself.\n\nHer work is based o
 n neuroscience\, behavioral science\, neuroplasticity\, NLP (Neuro-Linguis
 tic Programming)\, emotional intelligence\, positive intelligence\, and a 
 growth mindset. She is a certified organizational coach\, a certified NLP 
 practitioner\, an emotional intelligence coach\, and a hypnotherapist. She
  holds a Master’s degree in Computer Applications\, a Six Sigma Black Be
 lt\, and is an EFQM Certified Assessor. She is a team leader and senior as
 sessor for various international business excellence awards like DQA By Du
 bai Economic Development\, SKEA Abu Dhabi Chamber of Commerce\, MRM by Dub
 ai Chamber of Commerce\, TAQDEER Dubai Ministry of Labor\, UAE Innovation 
 by Dubai Quality Group\, ASQ ITEA by American Society of Quality\, Steve A
 wards USA\, etc.\n\nShe has won various awards\; some to mention are Best 
 Public Speaker 2022 by Global Women Leadership Awards\, Life Coach of the 
 Year 2021 by Lifestyle Fiesta\, and Top-rated Speaker by ISACA USA for man
 y years. The Brand Ambassador Award\, the CR Champion Award\, and the Self
  Development Award by DP World. She has spoken across the globe\, has been
  featured in international magazines\, and has published more than 100 art
 icles. Neetu is an author\, speaker\, and thought leader.
ATTACH;FMTTYPE=image/jpeg:https://neetuchoudhary.com/wp-content/uploads/20
 23/01/WhatsApp-Image-2023-01-27-at-09.15.25.jpeg
END:VEVENT
BEGIN:VTIMEZONE
TZID:Asia/Dubai
X-LIC-LOCATION:Asia/Dubai
BEGIN:STANDARD
DTSTART:20220130T110000
TZOFFSETFROM:+0400
TZOFFSETTO:+0400
TZNAME:+04
END:STANDARD
END:VTIMEZONE
END:VCALENDAR