 BEGIN:VCALENDAR
VERSION:2.0
PRODID:-//wp-events-plugin.com//7.2.3.1//EN
BEGIN:VEVENT
UID:37@neetuchoudhary.com
DTSTART;VALUE=DATE:20250526
DTEND;VALUE=DATE:20250527
DTSTAMP:20250508T103424Z
URL:https://neetuchoudhary.com/events/stand-out-step-up/
SUMMARY:Stand Out & Step Up
DESCRIPTION:You’re Smart. Talented. Hardworking. So why are you still bei
 ng overlooked?\n\nIt’s not your skills. It’s how you show up.\n\nAnd i
 n today’s noisy world\, blending in is the fastest way to be left behind
 .\nThat’s exactly why I’ve launched:\n\n🎯 “Stand Out &amp\; Step 
 Up” – A Group Coaching Experience for Rising Professionals.\n\nIf you'
 ve ever thought:\n❌ “I know I’m capable\, but people don’t really 
 see it.”\n❌ “I do the work\, but others seem to get the spotlight.
 ”\n❌ “I deserve more but don't know how to grow professionally”\n
 ❌ “I want to be more\, but feel stuck"\n❌ “I want to speak with im
 pact\, lead with confidence\, and own the room.”\n…then this program i
 s for YOU.\n\n💥 Here’s what you get in this powerful 6–8 week journ
 ey:\n✅ 3 in-person high-impact coaching sessions\n✅ 2 virtual coaching
  intensives\n✅ 1 one-on-one in-person breakthrough session\n✅ Lifetime
  access to exclusive resources (audios\, videos\, eBooks)\n✅ Complimenta
 ry &amp\; discounted workshops\n✅ A chance to be a guest on the "Talent 
 Talks" podcast\n✅ And access to a supportive peer group that challenges 
 and champions you\n✅ and more\n\n💡 You’ll walk away with:\n✔ Road
 map to Long Lasting Professional Growth\n✔ Tools to command attention wi
 thout shouting\n✔ Strategies to position yourself as a go-to expert\n✔
  And the confidence to step into leadership — before your title says so\
 n\n📍Seats are limited. This is a hands-on\, high-support experience —
  not a lecture series.\n\n💬 DM me “I’m ready to stand out” to rec
 eive details or to block your\nspot.\n\nLet the world see who you really a
 re \, not just what your resume says.\nShare it with someone who may need 
 it.\nNeetu Choudhary
ATTACH;FMTTYPE=image/jpeg:https://neetuchoudhary.com/wp-content/uploads/20
 25/05/WhatsApp-Image-2025-05-06-at-10.55.06_c4477a48.jpg
END:VEVENT
END:VCALENDAR