 BEGIN:VCALENDAR
VERSION:2.0
PRODID:-//wp-events-plugin.com//7.2.3.1//EN
BEGIN:VEVENT
UID:5@neetuchoudhary.com
DTSTART;TZID=Asia/Dubai:20230305T110000
DTEND;TZID=Asia/Dubai:20230305T130000
DTSTAMP:20230208T110406Z
URL:https://neetuchoudhary.com/events/speak-with-confidence/
SUMMARY:Speak with Confidence
DESCRIPTION:People are more scared of public speaking than death. Glossopho
 bia is the fear of public speaking. Some feel a slight nervousness at the 
 very thought of public speaking\, while others experience full-on panic an
 d fear. People who know how to express thoughts confidently by speaking ea
 rn more than those who do not.\n\nIf you are an entrepreneur\, employee\, 
 employer\, consultant\, homemaker\, or job seeker\, there is no escape fro
 m speaking. Speaking is a way of expressing yourself and your ideas\, whic
 h have an impact. To grow in your professional and personal life\, learn h
 ow to speak with confidence in front of anyone.\n\nThe webinar is designed
  and hosted by one of the best speakers\, Neetu Choudhary. In the webinar\
 , you will learn tips and tricks you can use to speak confidently on every
 thing from sitting down for a job review with your boss to speaking before
  a courtroom.\nOnline on 5-Mar-2023\, from 11:00 am to 01:00 pm Dubai Time
  \nRegister Now\nTakeaways\n\n 	You would understand the reason for the f
 ear of public speaking.\n 	Learn how to feel confident while speaking.\n 	
 Learn how to use tone and pitch\, and are there any special voice tricks? 
 Yes\, there are\n 	Nonverbal pro tips for speaking with confidence and mak
 ing an impact\n 	Learn how to deal with difficult situations and overcome 
 anxiety.\n\nAbout the Facilitator: Neetu Choudhary\nWith more than 20 year
 s of experience\, Neetu has spoken across the globe winning various awards
 \, including Best Public Speaker 2022 by Global Women Leadership Awards\, 
 Life Coach of the Year 2021 by Lifestyle Fiesta\, and Top-rated Speaker by
  ISACA USA for many years. The Brand Ambassador Award\, the CR Champion Aw
 ard\, and the Self-Development Award by DP World I have spoken across the 
 globe\, been featured in international magazines\, and published more than
  100 articles. She is the author of two books\, a speaker\, and a thought 
 leader.\n\nShe helps organizations improve revenue by motivating and upski
 lling employees with presentation and professional life skills. Her work i
 s based on science\, and She brings science into her daily professional li
 fe. Neetu is an idea presentation expert\, keynote speaker\, startup strat
 egic partner\, corporate trainer\, and professional development coach. Nee
 tu left a highly-paid job at a renowned organization to embark on an entre
 preneurial journey for a cause bigger than herself. Her work is based on n
 euroscience\, behavioral science\, neuroplasticity\, NLP (neuro-linguistic
  programming)\, emotional intelligence\, positive intelligence\, and a gro
 wth mindset.\n\nShe is a certified organizational coach\, a certified NLP 
 practitioner\, an emotional intelligence coach\, and a hypnotherapist. She
  holds a Master’s degree in Computer Applications\, a Six Sigma Black Be
 lt\, and is an EFQM Certified Assessor. She is a team leader and senior as
 sessor for various international business excellence awards\, like DQA. By
  Dubai Economic Development\, SKEA Abu Dhabi Chamber of Commerce\, MRM by 
 Dubai Chamber of Commerce\, TAQDEER by the Dubai Ministry of Labor\, UAE I
 nnovation by the Dubai Quality Group\, ASQ ITEA by the American Society of
  Quality\, Steve Awards USA\, etc.
ATTACH;FMTTYPE=image/jpeg:https://neetuchoudhary.com/wp-content/uploads/20
 23/02/NeetuWS-SpeakWithConfidence-Posters-V1.jpg
END:VEVENT
BEGIN:VTIMEZONE
TZID:Asia/Dubai
X-LIC-LOCATION:Asia/Dubai
BEGIN:STANDARD
DTSTART:20220305T110000
TZOFFSETFROM:+0400
TZOFFSETTO:+0400
TZNAME:+04
END:STANDARD
END:VTIMEZONE
END:VCALENDAR