 BEGIN:VCALENDAR
VERSION:2.0
PRODID:-//wp-events-plugin.com//7.2.3.1//EN
BEGIN:VEVENT
UID:35@neetuchoudhary.com
DTSTART:20250301T000000Z
DTEND:20250301T000000Z
DTSTAMP:20250221T062928Z
URL:https://neetuchoudhary.com/events/ramadan-special-iftar-talks/
SUMMARY:Ramadan Special: Iftar Talks
DESCRIPTION:I’m humbled to present Iftar Talks—bite-sized\, engaging\, 
 and insightful learning experiences designed for Iftar and Majlis gatherin
 gs.\n\nWhat to Expect:\n🔹 30-minute interactive sessions\n🔹 Science-
 backed insights\, fun facts\, and real-life stories\n🔹 Actionable strat
 egies to apply in daily life\n\nTopics:\n💡 Being Irrational – The Sci
 ence of Distorted Decisions\n🗣 The Inner World of Words – The Neurosc
 ience of Words\n❤ Heart of the Brain – The Science of Empathy\n\nLimit
 ed slots are available! Book a session for your team now:\nNeetu Choudhar
 y
ATTACH;FMTTYPE=image/jpeg:https://neetuchoudhary.com/wp-content/uploads/20
 25/02/WhatsApp-Image-2025-02-20-at-13.09.20_3344672c.jpg
END:VEVENT
END:VCALENDAR