 BEGIN:VCALENDAR
VERSION:2.0
PRODID:-//wp-events-plugin.com//7.2.3.1//EN
BEGIN:VEVENT
UID:39@neetuchoudhary.com
DTSTART:20250724T190000Z
DTEND:20250724T203000Z
DTSTAMP:20250705T050946Z
URL:https://neetuchoudhary.com/events/panel-discussions-workshop/
SUMMARY:Panel Discussions Workshop
DESCRIPTION:Panel discussions are the perfect time to grab a coffee… beca
 use most are painfully boring.\nRaise your hand if you’ve ever:\n\n☑ C
 hecked your phone within 5 minutes\n☑ Silently groaned at another clich
 é answer\n☑ Thought\, “When will this end?” 🙋‍♂\n\nHere’s 
 the truth: Most panels are forgettable. But yours don’t have to be.\nWha
 t if you could:\n⭐ Be the only speaker people remember?\n⭐ Turn passiv
 e listeners into engaged followers?\n⭐ Position yourself as the go-to ex
 pert in your field?\n\nI’ll show you how.\n🎤 Master the Art of IRRESI
 STIBLE Panel Discussions (Online Workshop)\n🗓 July 24\, 2025 | ⏰ 7:00
  PM (GMT+4) | 🙂 90 Min of Game-Changing Tactics\nRegistration Link - ht
 tps://lu.ma/qhzrik0k\n\nLimited to 15 Seats (For Maximum Impact) | Learnin
 g Investments AED 199 l ROI 10x\n\nYou’ll Walk Away With:\n✔ The “Ho
 ok &amp\; Hold” Method – Keep audiences glued (no more zoning out!)\n
 ✔ Power Moves – Command attention without dominating\n✔ Neuroscience
  Shortcuts – Spark real engagement (proven techniques)\n✔ The “Wow
 ” Factor – Create moments that get you remembered (&amp\; rebooked)\n
 ✔ Panel-to-Lead Machine – Turn stage time into clients\, connections &
 amp\; authority\n\nWhy Trust Me? I’m Neetu Choudhary:\n⭐ International
  Keynote Speaker (30+ countries\, Hundreds of events)\n⭐ Award-Winning (
 Global Women Leadership Award\, UAE Next Mastermind\, ISACA USA Top Rated 
 Speaker)\n⭐ UAE’s #1 Professional Development Coach\n⭐ Neuroscience 
 of Leadership Facilitator with 80+ recommendations on LinkedIn\n\nBeing a 
 panelist is like meeting your million-dollar client or leader at your drea
 m company\, except you're meeting many of them at once.\n\nFIRST 5 REGISTR
 ANTS GET:\n⭐ Bonus 1:1 Strategy Session ($550 value)\n⭐ Exclusive Invi
 te to co-panel with me at a future event\n⭐ A copy of my upcoming book\n
 \nClaim Your Spot NOW (This sells out every time – don’t miss your sea
 t!)\n\nDon’t just sit on the panel—be the reason people remember it.\n
 Neetu Choudhary\ndiscuss@neetuchoudhary.com\nCEO Evolvitude Fze\nUAE’s T
 rusted Advisor to C-Suite | Business Trainer | Neuroscience of Leadership 
 Coach | Keynote Speaker | Author | UAE's Top Professional Development Coac
 h\n\n👉 Register Now: https://lu.ma/zjnz0mdu\n\n#PublicSpeaking #Leaders
 hip #PersonalBrand #PanelDiscussion #Business
ATTACH;FMTTYPE=image/jpeg:https://neetuchoudhary.com/wp-content/uploads/20
 25/07/WhatsApp-Image-2025-07-03-at-12.58.53_f9266be3.jpg
END:VEVENT
END:VCALENDAR