 BEGIN:VCALENDAR
VERSION:2.0
PRODID:-//wp-events-plugin.com//7.2.3.1//EN
BEGIN:VEVENT
UID:50@neetuchoudhary.com
DTSTART:20260117T070000Z
DTEND:20260117T170000Z
DTSTAMP:20251209T083317Z
URL:https://neetuchoudhary.com/events/own-the-stage-masterclass/
SUMMARY:Own the Stage – Masterclass
DESCRIPTION:\n\nHonored to present the Own the Stage Masterclass — a full
 -day immersive experience designed to help leaders\, professionals\, speak
 ers\, and executives elevate their communication\, stage presence\, and in
 fluence.\n\nThis in-person masterclass is crafted to transform the way you
  speak\, lead\, and show up — whether on stage\, in meetings\, in panels
 \, or in front of any audience.\n\nWhether you're a corporate professional
 \, a trainer\, a coach\, a business leader\, or an aspiring speaker — th
 is is your chance to:\n\n⭐ Learn the essential skills of a powerful Keyn
 ote Speaker\n⭐ Master Panel Discussion structure and delivery\n⭐ Build
  confidence as an impactful Master of Ceremony (MC)\n⭐ Get real speaking
  opportunities through Evolutitude’s exclusive network\n⭐ Join the Evo
 lvitude Speakers Hub (1-year free membership after completing all assignme
 nts)\n\nYou will learn practical tools\, frameworks\, and communication te
 chniques to elevate your leadership voice — backed by real-world applica
 tion and guided coaching.\n\nPricing\n\nEarly Access Rate: AED 999 (Nov 22
  – Dec 22)\n\nStandard Investment: AED 1499 (Dec 23 – Jan 16\, 2026)\n
 (Founders’ Offer AED 699 has ended)\n\nLed by Neetu Choudhary\, Business
  & Leadership Coach\, Board Advisor\, Keynote Speaker\, and Executive Spea
 king Coach\, this masterclass promises a powerful and transformational lea
 rning experience.\n\nWhere:\nDoubleTree by Hilton\, Dubai\n\nFor inquiries
 :\nNeetu Choudhary\ndiscuss@neetuchoudhary.com\n\nBusiness & Leadership Co
 ach | Trainer | Board Member | Advisor | Keynote Speaker\nLinkedIn: https:
 //www.linkedin.com/in/choudharyneetu/
ATTACH;FMTTYPE=image/jpeg:https://neetuchoudhary.com/wp-content/uploads/20
 25/12/WhatsApp-Image-2025-12-08-at-10.08.56-AM.jpeg
END:VEVENT
END:VCALENDAR