 BEGIN:VCALENDAR
VERSION:2.0
PRODID:-//wp-events-plugin.com//7.2.3.1//EN
BEGIN:VEVENT
UID:46@neetuchoudhary.com
DTSTART:20251012T093000Z
DTEND:20251012T130000Z
DTSTAMP:20251005T055640Z
URL:https://neetuchoudhary.com/events/keynote-masterclass-3/
SUMMARY:Keynote Masterclass
DESCRIPTION:🎤 Own The Stage – Keynote Masterclass\nBe Remembered. Insp
 ire Action. Lead with Presence.\n\nAfter a phenomenal success across the U
 AE &amp\; GCC\, we are now bringing the Keynote Masterclass – Own The St
 age to Singapore!\n\n📍 Venue: Singapore Recreation Club (3-min walk fro
 m Raffles City Train Station)\n🗓 Date &amp\; Time: Sunday\, 12th Octobe
 r 2025 | 9:30 AM to 01:00 PM (Singapore Time)\n\n🎟 Learning Investment:
 \nInaugural Fee: SGD 199\nWhy Attend?\nWhether you’re a business leader\
 , startup founder\, entrepreneur\, coach\, or changemaker\, the ability to
  own the stage sets you apart.\n\nThis masterclass is not just about speak
 ing—it’s about:\n✨ Inspiring action\n✨ Building trust\n✨ Positio
 ning yourself as a thought leader\nWhat You’ll Learn\n\n 	✅ Find your 
 unique speaking style\n 	✅ Science-backed strategies to overcome stage f
 ear &amp\; speak with confidence\n 	✅ Discover the X-factor that makes a
  keynote unforgettable\n 	✅ Learn the art of turning any topic into an e
 ngaging experience\n 	✅ Master storytelling &amp\; emotional connection 
 to leave a lasting impact\n\nWho Should Attend?\nBusiness Leaders\, Manage
 rs\, Startup Founders &amp\; Entrepreneurs\nCoaches\, Consultants\, Traine
 rs\, Facilitators &amp\; Speakers\nProfessionals who regularly present ide
 as\n💎 Why This Masterclass Is Unique\nThis isn’t just another speakin
 g workshop—it’s a science-based\, experience-driven transformation wit
 h practical\, actionable strategies.\n🎯 Special Opportunity for Attende
 es:\nSelected participants will get the chance to:\n\n 	Speak at the Evolv
 itude Business &amp\; Leadership Annual Conference 2025\n 	Be invited to i
 n-person events in Dubai\n 	Get featured in Evolvitude Online Conferences 
 &amp\; Alliance Sessions throughout the year\n\nBecome part of the Evolvit
 ude Community for life\n👩‍🏫 Facilitator: Neetu Choudhary\n\n 	Glob
 al Women Award Winner – Best Speaker\n 	Recognized multiple times as Bes
 t Speaker by ISACA USA\n 	Mastermind Award Winner – Outstanding C-Suite 
 Advisor &amp\; Leadership Coach\n 	Spoken in 30+ countries to audiences of
  thousands\n 	Trained professionals across industries worldwide\n 	Six Sig
 ma Black Belt (ASQ USA) | MCA | CGEIT (ISACA USA) | EFQM Certified (Brusse
 ls)\n\nKnown for combining science with soul\, Neetu helps leaders and pro
 fessionals step into the spotlight with impact.\n\n🎥 Enjoy Neetu's Keyn
 otes:\nNeuroscience of Stress Management\nUAE Keynote Masterclass Highligh
 ts\nUAE Keynote Masterclass Testimonials\nStep Into the Spotlight\nSpeak w
 ith Impact. Lead with Presence. Be Remembered.\n\nReserve Your Seat Now\n\
 n⚠ Important: Registration will be confirmed only after payment.\nA secu
 re payment link will be shared once your registration request is approved.
 \n\n\n\nNeetu Choudhary\ndiscuss@neetuchoudhary.com\nhttps://www.linkedin.
 com/in/choudharyneetu/\n\n\n.em-event-content h4.fw-5\, .em-event-content 
 h3.fw-5{\nfont-weight: bold!important\;\n}\n
ATTACH;FMTTYPE=image/jpeg:https://neetuchoudhary.com/wp-content/uploads/20
 25/10/WhatsApp-Image-2025-09-30-at-11.53.31_0a8080fb.jpg
END:VEVENT
END:VCALENDAR