 BEGIN:VCALENDAR
VERSION:2.0
PRODID:-//wp-events-plugin.com//7.2.3.1//EN
BEGIN:VEVENT
UID:42@neetuchoudhary.com
DTSTART:20250729T190000Z
DTEND:20250729T200000Z
DTSTAMP:20250729T004616Z
URL:https://neetuchoudhary.com/events/job-interview-masterclass/
SUMMARY:Job Interview Masterclass
DESCRIPTION:What to Expect:\n💡 20-Minute Power Session on Job Interview 
 Strategies — with Neetu Choudhary\n🎙 Live Q&amp\;A with experts Vinay
 akk Kaamble Head - Human Resources JM Foods UAE\, Rashid Shah HR Manager T
 he Deep Seafood Company.\n\nLearn from real-world experience\, get some pr
 o tips\, and explore insider insights\n\n🗓 Date: Tuesday\, 29th July\n
 🕖 Time: 7:00 PM to 8:00 PM (UAE Time)\n⏱ Duration: 60 Minutes\n📍 L
 ocation: Online\n\nRegister - https://events.teams.microsoft.com/event/0d1
 e62d8-60f6-4057-a002-0b60d6727016@34f5dc17-4d97-4a19-8b54-4fa1027643cb\n\n
 In just one hour\, you’ll gain practical tools and powerful strategies t
 hat could make all the difference in your next interview.\n\nDon’t miss 
 it\, this could be the breakthrough you’ve been waiting for.\nNeetu Chou
 dhary\nEvolvitude Fze\nhttps://www.linkedin.com/in/choudharyneetu/
ATTACH;FMTTYPE=image/jpeg:https://neetuchoudhary.com/wp-content/uploads/20
 25/07/WhatsApp-Image-2025-07-28-at-06.41.25_d8a5c835.jpg
END:VEVENT
END:VCALENDAR