 BEGIN:VCALENDAR
VERSION:2.0
PRODID:-//wp-events-plugin.com//7.2.3.1//EN
BEGIN:VEVENT
UID:16@neetuchoudhary.com
DTSTART:20230901T000000Z
DTEND:20230901T000000Z
DTSTAMP:20230718T101647Z
URL:https://neetuchoudhary.com/events/idea-presentation/
SUMMARY:Idea Presentation
DESCRIPTION:Master Workshop\nComing up soon in Sept’2023\nDo you think yo
 u can make an impact?\nDo you have something that can make a difference in
  the world?\nDo you have any ideas for doing so?\n\nEvery idea needs a cha
 nce to be heard.\n\nAn idea could be your #product\, #service\, new #proje
 ct\, the introduction of your company\, your brand\, a new concept\, data\
 , thoughts\, or an #investor pitch.\n\nIdeas come in many shapes and sizes
 . Many of them just die without a chance because people do not know how to
  give voice to their ideas.\n\nDesign your own structure with my expertise
  in idea presentation to give voice to your ideas. I want your ideas not o
 nly to be voiced but to get results as well.\n\nI rarely hold public works
 hops\, and I am sure you do not want to miss this opportunity.\n\nShow int
 erest now by dm/comments to get the pre-launch discount.\n-Neetu Choudhary
 \nLimited Seats\nFirst Come First Serve
ATTACH;FMTTYPE=image/jpeg:https://neetuchoudhary.com/wp-content/uploads/20
 23/07/WhatsApp-Image-2023-07-18-at-12.33.24.jpeg
END:VEVENT
END:VCALENDAR