 BEGIN:VCALENDAR
VERSION:2.0
PRODID:-//wp-events-plugin.com//7.2.3.1//EN
BEGIN:VEVENT
UID:17@neetuchoudhary.com
DTSTART:20231001T090000Z
DTEND:20231001T130000Z
DTSTAMP:20230901T060750Z
URL:https://neetuchoudhary.com/events/idea-presentation-workshop/
SUMMARY:Idea Presentation Workshop
DESCRIPTION:Do you want to grow professionally?\nDo you want to make an imp
 act?\nDo you want him to hear you?\nDo you have an idea or a concept that 
 could help your clients\, company\, or community?\nDo you want to inspire 
 others?\nAre you presenting in front of a group of people?\nAre you giving
  a keynote and need help preparing for it?\nDo you facilitate training and
  want to make the content more engaging?\nDo you want to make complex info
 rmation easy to understand?\nDo you want to make boring details super enga
 ging?\nDo you find it difficult to express your thoughts and ideas?\nDo yo
 u feel anxiety while presenting?\nDoes your audience not feel engaged?\nDo
  you hesitate to talk about yourself?\n\nIf your answer to any of the abov
 e is yes\, this workshop is for you.\n\nThis one-of-a-kind workshop is des
 igned to equip you with idea presentation structure\, tools\, and techniqu
 es.\n\nHere you will learn about getting clarity on ideas\, speaking to ma
 ke an impression\, science-based pro tips\, and much more.\n\nThere are ve
 ry few seats available for a focused discussion. So\, block your seat now.
 \nRegister Now\nYou may use the QR Code or registration link which is ment
 ioned in the comments.\n- Neetu Choudhary
ATTACH;FMTTYPE=image/jpeg:https://neetuchoudhary.com/wp-content/uploads/20
 23/09/WhatsApp-Image-2023-08-30-at-18.39.18.jpeg
END:VEVENT
END:VCALENDAR